BEGIN:VCALENDAR
VERSION:2.0
PRODID:-//Holland Trade Center Istanbul - Nederlands - ECPv6.15.20//NONSGML v1.0//EN
CALSCALE:GREGORIAN
METHOD:PUBLISH
X-WR-CALNAME:Holland Trade Center Istanbul - Nederlands
X-ORIGINAL-URL:https://hollandtradecenteristanbul.com
X-WR-CALDESC:Evenementen voor Holland Trade Center Istanbul - Nederlands
REFRESH-INTERVAL;VALUE=DURATION:PT1H
X-Robots-Tag:noindex
X-PUBLISHED-TTL:PT1H
BEGIN:VTIMEZONE
TZID:Europe/Amsterdam
BEGIN:DAYLIGHT
TZOFFSETFROM:+0100
TZOFFSETTO:+0200
TZNAME:CEST
DTSTART:20240331T010000
END:DAYLIGHT
BEGIN:STANDARD
TZOFFSETFROM:+0200
TZOFFSETTO:+0100
TZNAME:CET
DTSTART:20241027T010000
END:STANDARD
BEGIN:DAYLIGHT
TZOFFSETFROM:+0100
TZOFFSETTO:+0200
TZNAME:CEST
DTSTART:20250330T010000
END:DAYLIGHT
BEGIN:STANDARD
TZOFFSETFROM:+0200
TZOFFSETTO:+0100
TZNAME:CET
DTSTART:20251026T010000
END:STANDARD
BEGIN:DAYLIGHT
TZOFFSETFROM:+0100
TZOFFSETTO:+0200
TZNAME:CEST
DTSTART:20260329T010000
END:DAYLIGHT
BEGIN:STANDARD
TZOFFSETFROM:+0200
TZOFFSETTO:+0100
TZNAME:CET
DTSTART:20261025T010000
END:STANDARD
BEGIN:DAYLIGHT
TZOFFSETFROM:+0100
TZOFFSETTO:+0200
TZNAME:CEST
DTSTART:20270328T010000
END:DAYLIGHT
BEGIN:STANDARD
TZOFFSETFROM:+0200
TZOFFSETTO:+0100
TZNAME:CET
DTSTART:20271031T010000
END:STANDARD
END:VTIMEZONE
BEGIN:VEVENT
DTSTART;VALUE=DATE:20251203
DTEND;VALUE=DATE:20251206
DTSTAMP:20260423T005528
CREATED:20251105T102316Z
LAST-MODIFIED:20251105T140613Z
UID:11162-1764720000-1764979199@hollandtradecenteristanbul.com
SUMMARY:Plast Eurasia 2025
DESCRIPTION:Plast Eurasia Istanbul is een van de grootste beurzen voor de kunststofindustrie die jaarlijks in Europa wordt gehouden. De beurs wordt georganiseerd door TUYAP in samenwerking met PAGEV (Turkse Stichting voor de Kunststofindustrie). Plast Eurasia Istanbul 2025 vindt plaats van 3 tot en met 6 december 2025 in het Tüyap Fair Convention and Congress Center in Istanbul. \nGetoonde producten en diensten:\nKUNSTSTOFMACHINES \nExtrusielijnen voor kunststofprofielen en -buizen\, draadgietlijnen\, rubber- en buisgietlijnen\, machines voor kunststofspuitgieten\, blaasvormmachines\, blaasmachines voor huisdieren\, machines voor kunststoffolie\, machines voor het snijden van zakken\, spuitgietmachines\, aanspuit- en centrale granulatoren\, machines voor kunststofrecycling\, thermovormmachines\, granulatoren\, machines voor kunststofbuizen\, extruders\, flexodrukmachines\, machines voor rubberspuitgieten\, PVC-mengmachines\, machines voor kunststofverpakkingstechnologie\nCHEMICALIËN EN GRONDSTOFFEN \nTechnische kunststoffen\, masterbatches\, kleurbatches\, PVC-additieven\, rubberadditieven\, rubberchemicaliën\, technische polymeren\, verpakkings- en industriële polymeren\, PVC-compounds\, PVC-granulaten\, PVC-stabilisatoren\, thermoplastische elastomeren\, vezelgrondstoffen\, oliën\, basischemicaliën en tussenproducten\, drukinkten\, polypropyleen\, polyethyleen\, polystyreen\, polyolefine\, pigmenten\, oplosmiddelen Polycarbonaten\nMACHINES HULPMIDDELENINDUSTRIE \nSchroef- en vatenmachines\, reductiekasten\, koelmachines\, robotsystemen\, koeltorens\, hopperdrogers\, grondstofmengers\, bandtransporteurs\, magneet- en metaalscheiders\, CNC-machines voor kunststofverwerking\, etiketteerrobots\, borstelproductiemachines\, persen\, plaatbewerkingsmachines\, airconditioningleidingen\nWARMTE- EN REGELAPPARATUUR \nWeerstanden\, sensoren\, indicatoren\, testapparatuur voor polymeer en kunststof\, precisieweegschalen\, elektronische weegschalen\, hotrunnersystemen\, statische apparatuur\, temperatuurmeetapparatuur\, modulaire warmteregelsystemen\, industriële verwarmingselementen\nVORM \nKunststof blaasvormen\, PET-flesvormen\, dopvormen\, PVC-flesvormen\, PET-preformvormen\, kunststof extrusievormen\, PVC deur-/raamprofielen en hulpprofielen\, extrusievormen\, spuitgietmatrijzen\, hopperdrogers\nHYDRAULISCH EN PNEUMATISCH \nHydraulische cilinders\, pompen\, fittingen en accessoires\, lucht Compressoren\, persluchtleidingapparatuur\, verbindingsapparatuur\, luchtketels\nRECYCLING \nKunststofrecyclingtechnologieën\, recyclingdiensten\, kunststofrecyclingextruders\, kunststofvergruizingsmachines\, was-\, spoel- en drooglijnen\, agglomeratiemachines\, granulaatsnijmachines\, kunststoffiltersystemen\nOVERIGE \nSilosystemen\, software\, doseerapparatuur\, mengers\, codering en branding\nPROFESSIONELE PUBLICATIES \nFeiten en cijfers:\n2023: \n1.375 exposanten (incl. 876 internationale exposanten uit 43 landen)\n468 merken\n67.249 bezoekers (incl. 10.738 buitenlandse bezoekers uit 112 landen)\nTOP-10 bezoekende landen: DUITSLAND\, AZERBEIDZJAN\, BULGARIJE\, ALGERIJE\, CHINA\, IRAK\, IRAN\, EGYPTE\, RUSLAND\, TUNESIË\nLANDEN VAN HET HOSTED BUYER PROGRAM: OEZBEKISTAN\, BULGARIJE\, ITALIË\, OEKRAÏNE\, IRAN\, AZERBEIDZJAN\, SERVIË\, EGYPTE\, ROEMENIË\, OOSTENRIJK\, CHINA\, GEORGIË\, RUSLAND\, KROATIË\, BOSNIË EN HERZEGOVINA\, MACEDONIË\, WIT-RUSLAND\, KAZACHSTAN\, MOLDAVIË
URL:https://hollandtradecenteristanbul.com/index.php/event/plast-eurasia-istanbul-2025/
LOCATION:Tüyap Exhibition and Congress Center\, Cumhuriyet Mahallesi Eski Hadımköy Yolu Caddesi 9/1\, 34500 Büyükçekmece\, Istanbul\, 34500\, Turkey
CATEGORIES:Industrie,Petrochemie,Techniek
ATTACH;FMTTYPE=image/jpeg:https://hollandtradecenteristanbul.com/wp-content/uploads/2025/11/Plast_Eurasia_2025-1.jpg
END:VEVENT
BEGIN:VEVENT
DTSTART;VALUE=DATE:20260106
DTEND;VALUE=DATE:20260110
DTSTAMP:20260423T005528
CREATED:20251105T103548Z
LAST-MODIFIED:20251105T105859Z
UID:11172-1767657600-1768003199@hollandtradecenteristanbul.com
SUMMARY:ICFE 2026
DESCRIPTION:“De ICFE 2026 International Carpet and Flooring Expo wordt georganiseerd door TÜYAP Exhibitions Group in samenwerking met de Istanbul Carpet Exporters’ Association (İHİB) en de Southeast Anatolia Carpet Exporters’ Association (GAHİB). De beurs vindt plaats van 6 tot en met 9 januari 2026 in het Istanbul Expo Center (IFM) in Istanbul\, Turkije. \nGetoonde producten en diensten:\n• Handgemaakte tapijten en vloerkleden\n• Machinaal vervaardigde tapijten\, vloerkleden en matten\n• Textielvloerbedekkingen\n• Flexibele vloerbedekkingen\n• Fabrikanten van laminaat\, hout en parket\n• Natuursteen\, marmer en keramische tegels\n• Kunstgras en sportvloeren\n• Fabrikanten van vezels\, garens en textielmaterialen\n• Textielmachines en -accessoires\n• Vloerapparatuur\, reinigings- en applicatietechnologieën\n• Verenigingen en publicaties \nFeiten en cijfers:\n2025:\n120.000 m² tentoonstellingsoppervlakte\n497 exposanten uit 21 landen\n35.940 bezoekers uit 103 landen\n17 gastlanden\nLanden van exposanten: Turkije\, Afghanistan\, Duitsland\, VS\, België\, VAE\, Brazilië\, China\, Frankrijk\, Zuid-Afrika\, India\, Iran\, Kazachstan\, Egypte\, Nepal\, Oezbekistan\, Pakistan\, Saoedi-Arabië\, Jordanië\nTOP-10 bezoekerslanden: Iran\, VS\, Rusland\, Saoedi-Arabië\, China\, India\, Duitsland\, Oezbekistan\, VK\, Griekenland”
URL:https://hollandtradecenteristanbul.com/index.php/event/icfe-2026/
LOCATION:İstanbul Fuar Merkezi Yeşilköy\, Yeşilköy Mah. Atatürk Cad. Hol 1 Blok No:5/2\, İç Kapı No:1\, Bakırköy\, 34149\, Istanbul\, 34149\, Turkey
CATEGORIES:Industrie,Interieurdecoratie,Machines,Productie,Textiel
ATTACH;FMTTYPE=image/jpeg:https://hollandtradecenteristanbul.com/wp-content/uploads/2025/11/icfe-900x400-gorsel-en.jpg
END:VEVENT
BEGIN:VEVENT
DTSTART;VALUE=DATE:20260127
DTEND;VALUE=DATE:20260201
DTSTAMP:20260423T005528
CREATED:20251105T113832Z
LAST-MODIFIED:20251105T113832Z
UID:11183-1769472000-1769903999@hollandtradecenteristanbul.com
SUMMARY:Istanbul International Furniture Fair 2026
DESCRIPTION:“De Istanbul Furniture Fair wordt georganiseerd door Tüyap Fairs Exhibitions Org. Inc. en Mos Fairs Inc.\, met steun van de Federation of Furniture Associations (MOSFED). \nOp IIFF2026\, dat gelijktijdig plaatsvindt in het Istanbul Expo Center en het Tüyap Fair and Congress Center\, kunnen bezoekers de nieuwste meubeltrends van het seizoen van dichtbij bekijken in de hallen die per productgroep zijn verdeeld over twee beurshallen. \nGetoonde producten en diensten:\nMODERNE & MODULAIRE MEUBELEN\nLUXE MEUBELEN\nBABY-\, KINDER- & TIENERMEUBELEN\nBEDDEN\nKANTOOR-\, SCHOOL- & ONDERWIJSMEUBELEN\nACCESSOIRES\nTUINMEUBELEN\nSTOFFEN \nFeiten en cijfers:\n2024:\n250.000 m² tentoonstellingsoppervlakte\n343 EXPOSANTEN VAN HET TUYAP BEURS- & CONVENTIECENTRUM\n525 EXPOSANTEN VAN HET ISTANBUL EXPO CENTER\n13 exposantenlanden: Azerbeidzjan\, België\, Italië\, Libanon\, Macedonië\, Maleisië\, Moldavië\, Rusland\, Spanje\, Thailand\, Verenigd Koninkrijk\, VS\, Oezbekistan\n144.196 bezoekers uit 152 landen\nKopers uit Cuba\, Griekenland\, Libanon\, Mauritanië en Saoedi-Arabië\nTOP-10 bezoekerslanden: AZERBEIDZJAN\, BULGARIJE\, ENGELAND\, GRIEKENLAND\, INDIA\, IRAN\, IRAK\, LIBIË\, MAKEDONIË\, NIGERIA\, ROEMENIË\, RUSLAND\, SAOEDI-ARABIË\, SERVIË\, VERENIGDE ARABISCHE EMIRATEN”
URL:https://hollandtradecenteristanbul.com/index.php/event/istanbul-international-furniture-fair-2026/
LOCATION:İstanbul Fuar Merkezi Yeşilköy\, Yeşilköy Mah. Atatürk Cad. Hol 1 Blok No:5/2\, İç Kapı No:1\, Bakırköy\, 34149\, Istanbul\, 34149\, Turkey
CATEGORIES:Industrie,Meubels,Productie,Textiel
ATTACH;FMTTYPE=image/jpeg:https://hollandtradecenteristanbul.com/wp-content/uploads/2025/11/Istanbul_furniture_fair_2026.jpg
END:VEVENT
END:VCALENDAR