BEGIN:VCALENDAR
VERSION:2.0
PRODID:-//Holland Trade Center Istanbul - Nederlands - ECPv6.15.20//NONSGML v1.0//EN
CALSCALE:GREGORIAN
METHOD:PUBLISH
X-WR-CALNAME:Holland Trade Center Istanbul - Nederlands
X-ORIGINAL-URL:https://hollandtradecenteristanbul.com
X-WR-CALDESC:Evenementen voor Holland Trade Center Istanbul - Nederlands
REFRESH-INTERVAL;VALUE=DURATION:PT1H
X-Robots-Tag:noindex
X-PUBLISHED-TTL:PT1H
BEGIN:VTIMEZONE
TZID:Europe/Amsterdam
BEGIN:DAYLIGHT
TZOFFSETFROM:+0100
TZOFFSETTO:+0200
TZNAME:CEST
DTSTART:20240331T010000
END:DAYLIGHT
BEGIN:STANDARD
TZOFFSETFROM:+0200
TZOFFSETTO:+0100
TZNAME:CET
DTSTART:20241027T010000
END:STANDARD
BEGIN:DAYLIGHT
TZOFFSETFROM:+0100
TZOFFSETTO:+0200
TZNAME:CEST
DTSTART:20250330T010000
END:DAYLIGHT
BEGIN:STANDARD
TZOFFSETFROM:+0200
TZOFFSETTO:+0100
TZNAME:CET
DTSTART:20251026T010000
END:STANDARD
BEGIN:DAYLIGHT
TZOFFSETFROM:+0100
TZOFFSETTO:+0200
TZNAME:CEST
DTSTART:20260329T010000
END:DAYLIGHT
BEGIN:STANDARD
TZOFFSETFROM:+0200
TZOFFSETTO:+0100
TZNAME:CET
DTSTART:20261025T010000
END:STANDARD
END:VTIMEZONE
BEGIN:VEVENT
DTSTART;VALUE=DATE:20250508
DTEND;VALUE=DATE:20250511
DTSTAMP:20260419T195939
CREATED:20241210T144941Z
LAST-MODIFIED:20241210T144941Z
UID:9515-1746662400-1746921599@hollandtradecenteristanbul.com
SUMMARY:RePlast Eurasia 2025
DESCRIPTION:Plastic Recycling Technologies and Raw Materials Fair \nReplast Eurazië\, plastic recyclingtechnologieën en grondstoffen Fair worden gehouden door Tüyap Tüm Fuarcılık Yapım A.ş. In samenwerking met Pagçev Green Recycling en Technology Association op Tüyap Fair Convention en Congress Center Büyükçekmece\, Istanbul tussen 8-10 mei 2025. \nDe beurs zal een belangrijke impuls geven aan de vooruitgang van Türkiye in groene transformatie. Recycling van grondstof- en technologiebedrijven die producten en diensten produceren voor alle fasen die nodig zijn voor het recyclen van plastic en het toevoegen van waarde aan het leven zullen voor het eerst samenkomen met professionals in de industrie bij Replast Eurazië Plastic recyclingtechnologie en grondstoffenbeurs. \n  \nTentoongestelde producten en diensten:\nMachine Technologies \nFabrikanten van recycling machinaal\nBedrijven die zich bezighouden met aggregatie en scheiding\nCertificering en ondersteunende oplossingen\nRecycling machine -technologie\nScheidingsmachines\nShredder -machines\nDrogers\nMixers\nCrushing -machines\nExtruders\nBale openers\nTest meetapparaten\nFilterproductiebedrijven\nLasersnijden\nImporteurs \nGRONDSTOFFEN \nFabrikanten van grondstoffen recyclen\nPetrochemische bedrijven\nFaciliteiten die mechanisch omkeren uitvoeren\nFabrikanten van recyclingtassen\nR & D -centra en commerciële instituten\nOntwerp- en adviesbureaus \nFeiten en cijfers:\n2024: \n124 exposanten uit 10 landen\n8.253 bezoekers uit 85 landen\nLanden die exposeren: China\, Duitsland\, Italië\, Maleisië\, Nederland\, Portugal\, Saoedi-Arabië\, Spanje\, Zwitserland\, Türkiye\, Verenigd Koninkrijk\nTop-10 bezoekerslanden: Algerije\, Oostenrijk\, België\, Bulgarije\, China\, Duitsland\, Iran\, Italië\, Rusland\, Tunesië \nBekijk de video
URL:https://hollandtradecenteristanbul.com/index.php/event/replast-eurasia-2025/
LOCATION:Tüyap Exhibition and Congress Center\, Cumhuriyet Mahallesi Eski Hadımköy Yolu Caddesi 9/1\, 34500 Büyükçekmece\, Istanbul\, 34500\, Turkey
CATEGORIES:Agro,Energie,Machines,Milieubescherming,Petrochemie,Productie,Recycling,Verpakking
ATTACH;FMTTYPE=image/jpeg:https://hollandtradecenteristanbul.com/wp-content/uploads/2024/12/replast.jpg
END:VEVENT
END:VCALENDAR