BEGIN:VCALENDAR
VERSION:2.0
PRODID:-//Holland Trade Center Istanbul - Nederlands - ECPv6.15.20//NONSGML v1.0//EN
CALSCALE:GREGORIAN
METHOD:PUBLISH
X-WR-CALNAME:Holland Trade Center Istanbul - Nederlands
X-ORIGINAL-URL:https://hollandtradecenteristanbul.com
X-WR-CALDESC:Evenementen voor Holland Trade Center Istanbul - Nederlands
REFRESH-INTERVAL;VALUE=DURATION:PT1H
X-Robots-Tag:noindex
X-PUBLISHED-TTL:PT1H
BEGIN:VTIMEZONE
TZID:Europe/Amsterdam
BEGIN:DAYLIGHT
TZOFFSETFROM:+0100
TZOFFSETTO:+0200
TZNAME:CEST
DTSTART:20230326T010000
END:DAYLIGHT
BEGIN:STANDARD
TZOFFSETFROM:+0200
TZOFFSETTO:+0100
TZNAME:CET
DTSTART:20231029T010000
END:STANDARD
BEGIN:DAYLIGHT
TZOFFSETFROM:+0100
TZOFFSETTO:+0200
TZNAME:CEST
DTSTART:20240331T010000
END:DAYLIGHT
BEGIN:STANDARD
TZOFFSETFROM:+0200
TZOFFSETTO:+0100
TZNAME:CET
DTSTART:20241027T010000
END:STANDARD
BEGIN:DAYLIGHT
TZOFFSETFROM:+0100
TZOFFSETTO:+0200
TZNAME:CEST
DTSTART:20250330T010000
END:DAYLIGHT
BEGIN:STANDARD
TZOFFSETFROM:+0200
TZOFFSETTO:+0100
TZNAME:CET
DTSTART:20251026T010000
END:STANDARD
END:VTIMEZONE
BEGIN:VEVENT
DTSTART;VALUE=DATE:20241009
DTEND;VALUE=DATE:20241012
DTSTAMP:20260420T094235
CREATED:20241001T113428Z
LAST-MODIFIED:20241001T131353Z
UID:8486-1728432000-1728691199@hollandtradecenteristanbul.com
SUMMARY:EIF 2024 Internationaal Energie Congres en Beurs
DESCRIPTION:Productgroepen:\n• Bedrijven die elektriciteit genereren met hernieuwbare energie\n• Hernieuwbare energiesystemen en technologieën\n• Elektriciteitsdistributiebedrijven\n• Met hernieuwbare energie aangedreven cogeneratie-systemen\n• Hoog efficiënte trigenheratiesystemen\n• Hybride en gebalanceerder energiecentrales\n• Druklucht- en energieopslagtechnologieën\n• Brandstofcellen\n• Warmteopslagsystemen\n• Waterstofopslag\n• Afval energiesystemen\n• Energiecertificering en certificaatbedrijven\n• Energielogistiek en douane -opruimingsbedrijven\n• Software en technologiebedrijven voor energiesysteem\n• Fabrikanten van energieopslagsysteem\\n• Financiële instellingen en banken\n• Adviesbureau voor energie -efficiëntie en projectbedrijven\n• Energy Power Systems Companies\n• Energie -efficiëntiesystemen\n• Bedrijven die onderhoud\, reparatie en service bieden in energiefaciliteiten\n• Engineer en adviseuradviseurbedrijven\n• Milieu- en EIA -adviesbureaus\n• Milieutechnologieën Productiebedrijven\n• Biomassa – Gassisatie- en schiettechnologieën\n• CFB -verbrandingsketels\n• Coal Energy Technologies en thermische energiecentrales\n• Technologieën die worden gebruikt om de milieueffecten op steenkool te verminderen\n• Coal Mines Mini Ekcavators\, minerale apparatuur en januari display machines\n• Kolentransportapparatuur\n• Steenkoolvergruizers -machines en dispersionisten\n• Conveyors en bandsystemen\n• Stofverzamelings- en besturingssystemen\n• CO-Test en Laboratorium Service bedrijven\n• Kolenmolens\n• Opslagsystemen en silo’s\n• Mineral Quarry Train Wagons en Wagon Transport Systems\n• Mineral Quarry Life Units\n• Minerale steengroeve vitale apparatuur\, beveiligingsapparatuur\n• Mineral Quarry Tunnel Lighting -apparatuur\n• Aardgaspijpleidingen\, opslagsystemen\, LNG -terminals\n• Zwevende opslag en gasopslag\n• Hybride technologieoplossingen\n• Certificaat voor energiesector en certificeringsdiensten\n• Batterij- en batterijtechnologieën\n• Smart Network Management Automation System en Software\n• Slimme meters en technologieën\n• Hydraulische energiecentrales en opslagsystemen\n• Hydro-elektrische damontwerpen\, plannen en projectadviseurs\n• Hydro-elektrische balansschoorstenen\, pomphydroforensystemen\, hydro -turbines\n• Hydro-elektrische stroomregelkleppen\, turbinemotoren en bedden\n• Hydro-elektrische lekpreventiesystemen\n• Hydro-elektrische damveiligheidstechnologieën\n• Wind Turbine en Automation Systems\n• Windkrachtcentrales Potentiële analyse Consultancy Companies\n• Windenergie -centrales\, frequentiecontroleapparaten\, schachten\, vleugels en torenontwerpen\n• Turbinebedrijven\, onderhouds- en reparatiediensten Supply and Consulting Companies\n• Potentiële analyse Consultancy Companies van zonne -energiecentrales\n• Zonne-energiecentrales\n• Stapel- en assemblageplanning\, toepassing en ontwerpbedrijven\n• Sun Power Plants bewegende panelen\n• Zonne-energiecentrales omvormers\n• Zonne-energieplanten dunne panelen\, mono- en kristallen panelen\\n• Zonne-energiecentrales Paneel Foutvolg- en beveiligingstechnologieën\n• Gasturbines en motoren\n• Versnellingsbakken\n• Generatoren\n• Toezichthouders\n• Luchtfilters en koelt\n• Luchtdrogen en hydraterende technologieën\n• Hulpeenheden\, bevestigingsmiddelen en compressoren\n• Brandstofvoedingssystemen\n• Performance tracking -systemen\n• Turbocompressor\, ontsteking en bougies\n• Injectoren en brandstofmixers\n• Gasafvoerkleppen\n• Speed Regulators\n• Steamturbines Smeeroliesystemen\n• Stoomscheiders\n• Turbine vleugels\n• Condensatoren en koelsystemen\n• Stroomregelkleppen\n• Soorten ketel\n• Systemen voor ketelbewaking en -besturin\n• Economisch\n• Ketelbuizen en bevestigingsmiddelen\n• Luchtverwarmers\n• Detectoren\n• Stoomkoeling\n• Kleppen en blaasbalgen\n• Tiltechnologieën\n• Pijpsystemen en bevestigingsmiddelen\, technologieën\n• Kerncentrale investeerders en leveranciers\n• Nucleaire reactorontwerp en reactorvolgtechnologieën\n• Nucleaire brandstoftoevoer\, opslag- en transportsystemen\n• Stralingstrackingapparaten en software\n• Veilige netwerkverbindingen\n• Zoek- en productiebedrijven voor benzine-gas\n• Benzine-gas distributiebedrijven\n• LPG -bedrijven\n• Petroleum exploratieapparatuur en technologie\n• Olieboormachines\, technologieën en apparatuur\n• Benzine boortorenontwerpbedrijven en modelbedrijven\n• Bedrijven die een petroleumboortoren produceren\n• RadarsystemenGeothermische kassystemen\n• Petroleumgaspijp\, klep en pompen\n• Technologieën voor ruwe olieverwerking\n• Gasopslagtechnologieën\n• Software- en automatiseringssystemen\n• Geothermische energiecentrales\n• Behandelings- en ontladingssystemenGeothermische kassystemen\n• Koolstofdioxide-productie\n• Geothermische automatisering en software\n• Geothermisch onderzoeks- en adviesbedrijven\n• Hydro Geochemistry Companies\n• Geothermische systemen\n• Boorbedrijven\n• Pijpen\, kleppen\, pompen en hydrofoor-bedrijven\n• Thermische isolatiebedrijven\n• Verwarmings-\, koel- en ventilatiebedrijven\n• Warmtebalanstanks en warmwaterketels\n• Luchtplaat warmteverstelsystemen\n• Warmtepompen\, pre -insulatieleidingen\, meetapparaten\n• Thermische en thermistors\n• Temperatuurmeters en indicatoren\n• Afdichtingselementen \nStatistieken van vorig jaar:\n• Aantal stands: 304\n• Aantal buitenlandse bezoekers: 8500+\n• Aantal congressessies: 30 Sessie\n• Aantal sprekers: 150
URL:https://hollandtradecenteristanbul.com/index.php/event/eif-2024-internationaal-energie-congres-en-beurs/
LOCATION:İstanbul Fuar Merkezi Yeşilköy\, Yeşilköy Mah. Atatürk Cad. Hol 1 Blok No:5/2\, İç Kapı No:1\, Bakırköy\, 34149\, Istanbul\, 34149\, Turkey
CATEGORIES:Energie,Engineering,Gas,Industrie,Machines,Olie,Productie
ATTACH;FMTTYPE=image/jpeg:https://hollandtradecenteristanbul.com/wp-content/uploads/2024/10/EIF-Logo_result.jpg
ORGANIZER;CN="Domino Fuarc%C4%B1l%C4%B1k":MAILTO:gul@dominoexpo.com
END:VEVENT
END:VCALENDAR