BEGIN:VCALENDAR
VERSION:2.0
PRODID:-//Holland Trade Center Istanbul - Nederlands - ECPv6.15.20//NONSGML v1.0//EN
CALSCALE:GREGORIAN
METHOD:PUBLISH
X-ORIGINAL-URL:https://hollandtradecenteristanbul.com
X-WR-CALDESC:Evenementen voor Holland Trade Center Istanbul - Nederlands
REFRESH-INTERVAL;VALUE=DURATION:PT1H
X-Robots-Tag:noindex
X-PUBLISHED-TTL:PT1H
BEGIN:VTIMEZONE
TZID:Europe/Amsterdam
BEGIN:DAYLIGHT
TZOFFSETFROM:+0100
TZOFFSETTO:+0200
TZNAME:CEST
DTSTART:20240331T010000
END:DAYLIGHT
BEGIN:STANDARD
TZOFFSETFROM:+0200
TZOFFSETTO:+0100
TZNAME:CET
DTSTART:20241027T010000
END:STANDARD
BEGIN:DAYLIGHT
TZOFFSETFROM:+0100
TZOFFSETTO:+0200
TZNAME:CEST
DTSTART:20250330T010000
END:DAYLIGHT
BEGIN:STANDARD
TZOFFSETFROM:+0200
TZOFFSETTO:+0100
TZNAME:CET
DTSTART:20251026T010000
END:STANDARD
BEGIN:DAYLIGHT
TZOFFSETFROM:+0100
TZOFFSETTO:+0200
TZNAME:CEST
DTSTART:20260329T010000
END:DAYLIGHT
BEGIN:STANDARD
TZOFFSETFROM:+0200
TZOFFSETTO:+0100
TZNAME:CET
DTSTART:20261025T010000
END:STANDARD
END:VTIMEZONE
BEGIN:VEVENT
DTSTART;VALUE=DATE:20250424
DTEND;VALUE=DATE:20250427
DTSTAMP:20260420T005155
CREATED:20241024T085008Z
LAST-MODIFIED:20241024T085008Z
UID:8815-1745452800-1745711999@hollandtradecenteristanbul.com
SUMMARY:ICCI 2025
DESCRIPTION:International Energy and Environment Conference and Fair \n29e ICCI International Energy and Environment Fair en Conference zal worden georganiseerd door Sektörel Fuarcılık en Turkish Cogeneration Association met de steun van het ministerie van Energie en Natuurlijke Resources van Republiek Turkije en Energie Market Regulatory Authority (EPDK). Het is de bedoeling om de energiesector samen te brengen van 24-26 april 2025. De grootste energiebeurs van Turkije en de omliggende regio zal een ontmoetingspunt zijn voor binnenlandse en internationale exposanten\, waar succesvolle zakelijke bijeenkomsten zullen worden gehouden. \nICCI-International Energy and Environment Fair en Conference zal plaatsvinden in het Istanbul Expo Center\, van 24-26 april 2025 voor de 29e keer. We kijken ernaar uit u te ontmoeten om de toekomst van energie vorm te geven. \n  \nTentoongestelde producten en diensten: \nWind energie\nWindtorens\nWindturbines \nSolar energie \nVerplaatsbare panelen\nDunne film panelen\nLokale zonnepanelen\nOmvormers (AC-DC & DC-AC-convertors) \nHydro -turbines \nGeneratoren\nHydro-turbines\nSmeeroliesystemen\nHydro -systemen \nVerbrandingsturbines \nGasturbines\nGeneratoren\nLuchtreinigers\, drogers en filters\nInlaatluchtkoeling en beslaan\nTechnologie\nSmeeroliesystemen en filters \nDiesel / gasmotoren \nLuchtfilters\nUitlaatdempers\nBrandstoffilters\, scheiders en injectoren\nGasmixers\nOntstekingsystemen (bougies)\nIntercoolers\nKlopdetectoren\nSmeerolie -additieven en filters\nTurbolader\nTrillingsdempers en monitoren \nSchone kolentechnologieën \nVergassingssystemen\nIGCC Plant Technologies\nKetels / stoomgenerators\nStoomturbines\nAlternatieve energiesystemen \nCogeneration & trigeneration\nSystemen\nElektrische voertuigen\nWaterstof \nNucleair \nNucleaire apparatuur\nNucleaire diensten \nKoelsystemen / condensers en waterbehandeling \nLuchtgekoelde Condersers\nKoeltorens \nLuchtkwaliteitscontrole / emissiecontroles / Milieu -apparatuur en -diensten \nBaghouses & Fabric Filters\nRookgas desulfurisatiesystemen\nSchoorsteen / stacks\nInstrumentatie\, controles\, communicatie\nAsh / slibbehandeling\nHulpapparatuur\nBevestigingsmiddelen en filters\nDesign Engineering Industry Services \nVaste brandstofafhandeling \nKoolbehandelingsapparatuur\nOpslagsystemen\nBrandstoffen inkoop en services onderhoudsveiligheidsapparatuur gebruikte energiecentrales \nCategorie transmissie en distributie \nTRANSMISSIE \nAC/DC\, DC/AC\, DC/DC -convertors\nStroomonderbrekers\nStroomlijndrager\nTransformatoren\nOndergrondse verdeling\nBedrading en kabel\nArresters\nBussen\nFoutdetectoren\nHoogspanning Directe stroom (HVDC)\nFaseconvertors\nSimulators\, transmissie\nTapchanger controleert\nTelemeteringscontroles\nTemperatuurregeling \nCOMMUNICATIE \nAntennes\nBreedband over powerline kabel\nCellulair (3G\, 4\,5G)\nMagnetroncomminicatieapparatuur\nModems multiplexers\nVezel optische communicatie\nSatelliet\nSignaalinterferentie -detectoren\nSpraakverwerkingssystemen\, communicatie\nWi-Fi Wi-Fi Wi-Fi (WAN) WIDE-NETWERK (WAN)\nDraadloze communicatieapparatuur \nDistributie- en substationautomatisering \nAC/DC\, DC/AC\, DC/DC -convertors \nArresters\nBatterijen\nBussen\nCurcuit Breakers\nGegevensloggers en analyses\nVerzendsystemen\, foutdetectoren en locators\nHarmonische meetapparatuur\nInfrarooddetectoren\nLekdetectoren\nLoad Management Systems\nUitvoerbeheersystemen\nFaseconvertors\nBeschermende relais\, distributieautomatisering\nUniterruptible voeding \nGeografische informatiesystemen (GIS) \nCallout Services\nVeldvoorraaddiensten\nGlobale positioneringssystemen\nMaps / Mapping Services\nMobiele oplossingen \nHardware en apparatuur \nKlemmen\nSupergeleidende kabel op hoge temperatuur\nMobiele voeding / generatorverhuur\nPalen \nInstrumenten en controle \nData -acquisitie\, opslag en verzending\nSafety Instrumented Systems (SIS)\nKlantstrategieën en technologieën\nAutomatische meetsystemen\nFlomeasurument meters\nFasemeters\nPower Factor Meters\nSlimme steden\nIt & software \nBeveiliging en personeelsbescherming \nKleding / persoonlijke bescherming\nInspectiediensten\, veiligheids- en personeelsbescherming\nTrainingsdiensten / materialen\nBeveiliging / cybersecurity & bescherming\nTechnische\, laboratorium- en computerdiensten\nTest- en meetapparatuur \nOPLEIDING \nSimulatieproducten / -services\nE-learning platforms / software / cloud-oplossingen \nTransport \nVrachtafhandelingsapparatuur en -diensten\nFleet Cars / Trucks Management\nElektrische voertuigen\nLandtransport en diensten \nFeiten en cijfers:\n2023: \n114 exposanten\n15.895+ bezoekers (incl. 6500 buitenlandse bezoekers uit 55 landen)\n12 exposantenlanden: Italië\, Duitsland\, Rusland\, China\, India\, Denemarken\, Ierland\, België\, VS\, Frankrijk\, Azerbeidzjan\, Engeland\nConferentie:\n225+ sprekers\n45 sessies \nLink naar video
URL:https://hollandtradecenteristanbul.com/index.php/event/icci-2025/
LOCATION:İstanbul Fuar Merkezi Yeşilköy\, Yeşilköy Mah. Atatürk Cad. Hol 1 Blok No:5/2\, İç Kapı No:1\, Bakırköy\, 34149\, Istanbul\, 34149\, Turkey
CATEGORIES:Energie,Gas,Milieubescherming,Olie
ATTACH;FMTTYPE=image/jpeg:https://hollandtradecenteristanbul.com/wp-content/uploads/2024/10/icci-2025-logo_result.jpg
END:VEVENT
END:VCALENDAR