BEGIN:VCALENDAR
VERSION:2.0
PRODID:-//Holland Trade Center Istanbul - Nederlands - ECPv6.15.20//NONSGML v1.0//EN
CALSCALE:GREGORIAN
METHOD:PUBLISH
X-ORIGINAL-URL:https://hollandtradecenteristanbul.com
X-WR-CALDESC:Evenementen voor Holland Trade Center Istanbul - Nederlands
REFRESH-INTERVAL;VALUE=DURATION:PT1H
X-Robots-Tag:noindex
X-PUBLISHED-TTL:PT1H
BEGIN:VTIMEZONE
TZID:Europe/Amsterdam
BEGIN:DAYLIGHT
TZOFFSETFROM:+0100
TZOFFSETTO:+0200
TZNAME:CEST
DTSTART:20240331T010000
END:DAYLIGHT
BEGIN:STANDARD
TZOFFSETFROM:+0200
TZOFFSETTO:+0100
TZNAME:CET
DTSTART:20241027T010000
END:STANDARD
BEGIN:DAYLIGHT
TZOFFSETFROM:+0100
TZOFFSETTO:+0200
TZNAME:CEST
DTSTART:20250330T010000
END:DAYLIGHT
BEGIN:STANDARD
TZOFFSETFROM:+0200
TZOFFSETTO:+0100
TZNAME:CET
DTSTART:20251026T010000
END:STANDARD
BEGIN:DAYLIGHT
TZOFFSETFROM:+0100
TZOFFSETTO:+0200
TZNAME:CEST
DTSTART:20260329T010000
END:DAYLIGHT
BEGIN:STANDARD
TZOFFSETFROM:+0200
TZOFFSETTO:+0100
TZNAME:CET
DTSTART:20261025T010000
END:STANDARD
END:VTIMEZONE
BEGIN:VEVENT
DTSTART;VALUE=DATE:20250522
DTEND;VALUE=DATE:20250526
DTSTAMP:20260420T005844
CREATED:20241017T175317Z
LAST-MODIFIED:20241017T175317Z
UID:8768-1747872000-1748217599@hollandtradecenteristanbul.com
SUMMARY:WENERGY CLEAN ENERGY EXPO 2025
DESCRIPTION:Clean Energy Technologies Fair and Conference \nWenergy Expo de derde Clean Energy Technologies Expo en Conference openen haar deuren voor professionals uit de industrie in het prachtige tentoonstellingsgebouw in Izmir van 22-24 mei 2025 met de deelname van honderden prestigieuze bedrijven uit Turkije in uit andere landen met bezoek van duizenden professionele beleggers en kopers. \nWenergy\, zal de sector schone energie organiseren en tegelijkertijd het publiek\, investeerders\, industriëlen en leveranciers samenbrengen\, alle ondertitels van energie\, cogeneratie\, productie\, distributie en besturingssystemen\, onderhoud\, werking en service in energie-installaties\, met name wind\,  zonne-\, biomassa en geothermische\, milieutechnologieën\, energievoorziening\, energielogistiek\, digitalisering\, energieopslag\, elektrisch voertuig- en laadtechnologieën\, slim raster en slimme infrastructuur\, cyberbeveiliging resulteert in energie\, geavanceerde technologieën en de nieuwste producten en diensten zullen worden tentoongesteld. De meest effectieve en grootste Clean Energy Expo van Turkije. Meer dan 300 bedrijven in de branche zullen worden samengebracht met internationale kopers en investeerders. \nSpeciale kopers- en investeerdersdelegatie uit 14 doellanden\n54 landen meer dan 20.000 professionele bezoekers\nMeer dan 50 kamers van koophandel en investering \nExposantenprofiel:\nZonnepanelen en technologieën\nHydroturbine importeurs en fabrikanten\nWindturbines importeurs en fabrikanten\nStoomturbines importeurs en fabrikanten\nEnergieopslagbedrijven\nBiogas -technologiebedrijven\nWaterstoftechnologiebedrijven\nFabrikanten van batterijcellen\nCommunicatie- en technologiebedrijven\nIntegratie- en automatiseringstechnologieën\nOplaadapparaten voor elektrische voertuigen\nBeveiligingssystemen\nOpenbare en niet-gouvernementele organisaties
URL:https://hollandtradecenteristanbul.com/index.php/event/wenergy-clean-energy-expo-2025/
LOCATION:Fuar Izmir – Gaziemir\, ZAFER MAH. 840 SK. FUAR ALANI NO:2 GAZİEMİR\, Izmir\, Turkey
CATEGORIES:Energie,Engineering,Gas,Industrie,Olie
ATTACH;FMTTYPE=image/jpeg:https://hollandtradecenteristanbul.com/wp-content/uploads/2024/10/Wenergy_2025_result.jpg
END:VEVENT
END:VCALENDAR